BEGIN:VCALENDAR
VERSION:2.0
PRODID:-//Goldpac - ECPv6.11.0//NONSGML v1.0//EN
CALSCALE:GREGORIAN
METHOD:PUBLISH
X-ORIGINAL-URL:https://goldpac.tech
X-WR-CALDESC:Events for Goldpac
REFRESH-INTERVAL;VALUE=DURATION:PT1H
X-Robots-Tag:noindex
X-PUBLISHED-TTL:PT1H
BEGIN:VTIMEZONE
TZID:Asia/Hong_Kong
BEGIN:STANDARD
TZOFFSETFROM:+0800
TZOFFSETTO:+0800
TZNAME:HKT
DTSTART:20250101T000000
END:STANDARD
END:VTIMEZONE
BEGIN:VEVENT
DTSTART;VALUE=DATE:20251112
DTEND;VALUE=DATE:20251115
DTSTAMP:20260423T231508
CREATED:20250402T021455Z
LAST-MODIFIED:20250402T023115Z
UID:3538-1762905600-1763164799@goldpac.tech
SUMMARY:Singapore Fintech Festival 2025
DESCRIPTION:Date: 12 – 14 November 2025 \nVenue: EXPO Singapore \nGoldpac Booth no.: Hall 3 – 3G19
URL:https://goldpac.tech/event/singapore-fintech-festival-2025/
LOCATION:Singapore EXPO\, 1 Expo Drive\, Singapore
CATEGORIES:Exhibition
ATTACH;FMTTYPE=image/jpeg:https://goldpac.tech/wp-content/uploads/2025/04/Singapore-Fintech-Festival-2025-3x2-1.jpg
END:VEVENT
BEGIN:VEVENT
DTSTART;TZID=Asia/Hong_Kong:20250520T110000
DTEND;TZID=Asia/Hong_Kong:20250522T170000
DTSTAMP:20260423T231508
CREATED:20250401T065715Z
LAST-MODIFIED:20250402T023846Z
UID:3527-1747738800-1747933200@goldpac.tech
SUMMARY:Seamless Fintech Middle East 2025
DESCRIPTION:Dates: 20th to 22nd May 2025 \nVenue: Dubai World Trade Centre \nGoldpac booth location: Hall 6 – F36 \nEvent details and free registration at: https://www.terrapinn.com/exhibition/seamless-middle-east-fintech/index.stm
URL:https://goldpac.tech/event/seamless-fintech-middle-east-2025/
LOCATION:Dubai World Trade Centre\, Sheikh Zayed Rd\, Trade Centre\, Trade Centre 2\, Dubai - United Arab Emirates\, 400005\, United Arab Emirates
ATTACH;FMTTYPE=image/jpeg:https://goldpac.tech/wp-content/uploads/2025/04/Seamless-ME-2025-banner-3x2-1.jpg
END:VEVENT
END:VCALENDAR