BEGIN:VCALENDAR
VERSION:2.0
PRODID:-//Goldpac - ECPv6.11.0//NONSGML v1.0//EN
CALSCALE:GREGORIAN
METHOD:PUBLISH
X-WR-CALNAME:Goldpac
X-ORIGINAL-URL:https://goldpac.tech
X-WR-CALDESC:Events for Goldpac
REFRESH-INTERVAL;VALUE=DURATION:PT1H
X-Robots-Tag:noindex
X-PUBLISHED-TTL:PT1H
BEGIN:VTIMEZONE
TZID:Asia/Hong_Kong
BEGIN:STANDARD
TZOFFSETFROM:+0800
TZOFFSETTO:+0800
TZNAME:HKT
DTSTART:20260101T000000
END:STANDARD
END:VTIMEZONE
BEGIN:VEVENT
DTSTART;TZID=Asia/Hong_Kong:20260608T090000
DTEND;TZID=Asia/Hong_Kong:20260611T170000
DTSTAMP:20260424T184821
CREATED:20260424T075804Z
LAST-MODIFIED:20260424T082850Z
UID:4110-1780909200-1781197200@goldpac.tech
SUMMARY:Web Summit Rio
DESCRIPTION:Goldpac will be exhibiting in Latin America for the first time at one of the largest tech festivals in the region\, Web Summit Rio. Come speak to our LATAM team and discover opportunities for collaborations in card issuance and payment solutions. \nDates: 8 – 11 June 2026 \nVenue: Riocentro\, Rio\, Brazil \nGoldpac booth location: To be released soon \nEvent details and free registration at: https://rio.websummit.com/ \nAlready attending? Connect with us on the event app (our company profile) or contact us to set up a meeting.
URL:https://goldpac.tech/event/web-summit-rio-2026/
LOCATION:Riocentro\, Av. Salvador Allende\, 6555 - Barra Olímpica\, Rio de Janeiro - RJ\, 22783-127\, Brazil\, Rio de Janeiro\, Mexico
CATEGORIES:Exhibition
ATTACH;FMTTYPE=image/jpeg:https://goldpac.tech/wp-content/uploads/2026/04/Web-Summit-Rio-Banner-16x9-800px.jpg
END:VEVENT
BEGIN:VEVENT
DTSTART;TZID=Asia/Hong_Kong:20260922T110000
DTEND;TZID=Asia/Hong_Kong:20260924T170000
DTSTAMP:20260424T184821
CREATED:20260303T030729Z
LAST-MODIFIED:20260424T082507Z
UID:4100-1790074800-1790269200@goldpac.tech
SUMMARY:Seamless Fintech Middle East 2026
DESCRIPTION:Dates: 22 – 24 September 2026 (Postponed) \nVenue: Dubai World Trade Centre \nGoldpac booth location: Z5-D36 \nEvent details and free registration at: https://www.terrapinn.com/exhibition/seamless-middle-east-fintech/index.stm
URL:https://goldpac.tech/event/seamless-fintech-middle-east-2026/
LOCATION:Dubai World Trade Centre\, Sheikh Zayed Rd\, Trade Centre\, Trade Centre 2\, Dubai - United Arab Emirates\, 400005\, United Arab Emirates
CATEGORIES:Exhibition
ATTACH;FMTTYPE=image/png:https://goldpac.tech/wp-content/uploads/2026/03/Seamless-Banner-2026.png
END:VEVENT
END:VCALENDAR